BEGIN:VCALENDAR
VERSION:2.0
PRODID:-//DKV Telkom University
CALSCALE:GREGORIAN
METHOD:PUBLISH
X-WR-CALNAME:DKV Telkom University
X-ORIGINAL-URL:https://bvcd.telkomuniversity.ac.id/acara/pkkm-aktivitas-1-pendampingan-praktisi-external-mengenai-dynamic-visual-identity-pengembangan-statis-desain/
X-WR-CALDESC:PKKM AKTIVITAS 1 &#8211; PENDAMPINGAN PRAKTISI EXTERNAL MENGENAI DYNAMIC VISUAL IDENTITY PENGEMBANGAN STATIS DESAIN
BEGIN:VEVENT
DTSTART:20230831T083000
DTEND:20230831T160000
SUMMARY:PKKM AKTIVITAS 1 &#8211; PENDAMPINGAN PRAKTISI EXTERNAL MENGENAI DYNAMIC VISUAL IDENTITY PENGEMBANGAN STATIS DESAIN
DESCRIPTION:PKKM AKTIVITAS 1 - PENDAMPINGAN PRAKTISI EXTERNAL MENGENAI DYNAMIC VISUAL IDENTITY PENGEMBANGAN STATIS DESAIN
LOCATION:
END:VEVENT
END:VCALENDAR
