BEGIN:VCALENDAR
VERSION:2.0
PRODID:-//DKV Telkom University
CALSCALE:GREGORIAN
METHOD:PUBLISH
X-WR-CALNAME:DKV Telkom University
X-ORIGINAL-URL:https://bvcd.telkomuniversity.ac.id/acara/pkkm-aktivitas-3-kegiatan-pendampingan-mengenai-konservasi-budaya-bersama-tokoh-budayawan-dan-institusi-pemerintah-melalui-program-wrap-researchship/
X-WR-CALDESC:PKKM AKTIVITAS 3 &#8211; Kegiatan Pendampingan Mengenai Konservasi Budaya Bersama Tokoh Budayawan dan Institusi Pemerintah Melalui Program WRAP Researchship
BEGIN:VEVENT
DTSTART:20230825T000000
DTEND:20230901T000000
SUMMARY:PKKM AKTIVITAS 3 &#8211; Kegiatan Pendampingan Mengenai Konservasi Budaya Bersama Tokoh Budayawan dan Institusi Pemerintah Melalui Program WRAP Researchship
DESCRIPTION:PKKM AKTIVITAS 3 - Kegiatan Pendampingan Mengenai Konservasi Budaya Bersama Tokoh Budayawan dan Institusi Pemerintah Melalui Program WRAP Researchship
LOCATION:
END:VEVENT
END:VCALENDAR
