BEGIN:VCALENDAR
VERSION:2.0
PRODID:-//DKV Telkom University
CALSCALE:GREGORIAN
METHOD:PUBLISH
X-WR-CALNAME:DKV Telkom University
X-ORIGINAL-URL:https://bvcd.telkomuniversity.ac.id/acara/pkkm-aktivitas-1-pendampingan-praktisi-external-mengenai-dynamic-visual-identity-pada-desain-kemasan-bersama-qualita-company/
X-WR-CALDESC:PKKM AKTIVITAS 1 &#8211; PENDAMPINGAN PRAKTISI EXTERNAL MENGENAI DYNAMIC VISUAL IDENTITY PADA DESAIN KEMASAN BERSAMA QUALITA COMPANY
BEGIN:VEVENT
DTSTART:20230823T130000
DTEND:20230823T160000
SUMMARY:PKKM AKTIVITAS 1 &#8211; PENDAMPINGAN PRAKTISI EXTERNAL MENGENAI DYNAMIC VISUAL IDENTITY PADA DESAIN KEMASAN BERSAMA QUALITA COMPANY
DESCRIPTION:PKKM AKTIVITAS 1 - PENDAMPINGAN PRAKTISI EXTERNAL MENGENAI DYNAMIC VISUAL IDENTITY PADA DESAIN KEMASAN BERSAMA QUALITA COMPANY
LOCATION:
END:VEVENT
END:VCALENDAR
