BEGIN:VCALENDAR
VERSION:2.0
PRODID:-//DKV Telkom University
CALSCALE:GREGORIAN
METHOD:PUBLISH
X-WR-CALNAME:DKV Telkom University
X-ORIGINAL-URL:https://bvcd.telkomuniversity.ac.id/acara/pkkm-aktivitas-3-pelatihan-fotografi-dokumentasi-budaya-dan-fotografi-landscape/
X-WR-CALDESC:PKKM AKTIVITAS 3 &#8211; PELATIHAN FOTOGRAFI DOKUMENTASI BUDAYA DAN FOTOGRAFI LANDSCAPE
BEGIN:VEVENT
DTSTART:20230727T073000
DTEND:20230727T150000
SUMMARY:PKKM AKTIVITAS 3 &#8211; PELATIHAN FOTOGRAFI DOKUMENTASI BUDAYA DAN FOTOGRAFI LANDSCAPE
DESCRIPTION:PKKM AKTIVITAS 3 - PELATIHAN FOTOGRAFI DOKUMENTASI BUDAYA DAN FOTOGRAFI LANDSCAPE
LOCATION:
END:VEVENT
END:VCALENDAR
