BEGIN:VCALENDAR
VERSION:2.0
PRODID:-//DKV Telkom University
CALSCALE:GREGORIAN
METHOD:PUBLISH
X-WR-CALNAME:DKV Telkom University
X-ORIGINAL-URL:https://bvcd.telkomuniversity.ac.id/acara/pkkm-aktivitas-1-fgd-perkembangan-visual-identity-di-sektor-industri-kreatif-indonesia/
X-WR-CALDESC:PKKM AKTIVITAS 1 &#8211; FGD PERKEMBANGAN VISUAL IDENTITY DI SEKTOR INDUSTRI KREATIF INDONESIA
BEGIN:VEVENT
DTSTART:20230726T083000
DTEND:20230726T140000
SUMMARY:PKKM AKTIVITAS 1 &#8211; FGD PERKEMBANGAN VISUAL IDENTITY DI SEKTOR INDUSTRI KREATIF INDONESIA
DESCRIPTION:PKKM AKTIVITAS 1 - FGD PERKEMBANGAN VISUAL IDENTITY DI SEKTOR INDUSTRI KREATIF INDONESIA
LOCATION:
END:VEVENT
END:VCALENDAR
