BEGIN:VCALENDAR
VERSION:2.0
PRODID:-//DKV Telkom University
CALSCALE:GREGORIAN
METHOD:PUBLISH
X-WR-CALNAME:DKV Telkom University
X-ORIGINAL-URL:https://bvcd.telkomuniversity.ac.id/acara/pkkm-aktivitas-1-fgd-perkembangan-ragam-hias-jawa-barat-bersama-dinas-kebudayaan-lokal/
X-WR-CALDESC:PKKM AKTIVITAS 1 &#8211; FGD PERKEMBANGAN RAGAM HIAS JAWA BARAT BERSAMA DINAS KEBUDAYAAN LOKAL
BEGIN:VEVENT
DTSTART:20230725T133000
DTEND:20230725T163000
SUMMARY:PKKM AKTIVITAS 1 &#8211; FGD PERKEMBANGAN RAGAM HIAS JAWA BARAT BERSAMA DINAS KEBUDAYAAN LOKAL
DESCRIPTION:PKKM AKTIVITAS 1 - FGD PERKEMBANGAN RAGAM HIAS JAWA BARAT BERSAMA DINAS KEBUDAYAAN LOKAL
LOCATION:
END:VEVENT
END:VCALENDAR
