BEGIN:VCALENDAR
VERSION:2.0
PRODID:-//DKV Telkom University
CALSCALE:GREGORIAN
METHOD:PUBLISH
X-WR-CALNAME:DKV Telkom University
X-ORIGINAL-URL:https://bvcd.telkomuniversity.ac.id/acara/pkkm-aktivitas-2-survei-dan-observasi-destinasi-wisata-berbasis-historical-bandung-selatan/
X-WR-CALDESC:PKKM AKTIVITAS 2 &#8211; SURVEI DAN OBSERVASI DESTINASI WISATA BERBASIS HISTORICAL BANDUNG SELATAN
BEGIN:VEVENT
DTSTART:20230725T133000
DTEND:20230725T163000
SUMMARY:PKKM AKTIVITAS 2 &#8211; SURVEI DAN OBSERVASI DESTINASI WISATA BERBASIS HISTORICAL BANDUNG SELATAN
DESCRIPTION:PKKM AKTIVITAS 2 - SURVEI DAN OBSERVASI DESTINASI WISATA BERBASIS HISTORICAL BANDUNG SELATAN
LOCATION:
END:VEVENT
END:VCALENDAR
