BEGIN:VCALENDAR
VERSION:2.0
PRODID:-//DKV Telkom University
CALSCALE:GREGORIAN
METHOD:PUBLISH
X-WR-CALNAME:DKV Telkom University
X-ORIGINAL-URL:https://bvcd.telkomuniversity.ac.id/acara/kuliah-umum-tips-for-creating-eye-catching-content-using-basic-photography-techniques/
X-WR-CALDESC:Kuliah Umum : Tips for Creating Eye-Catching Content Using Basic Photography Techniques
BEGIN:VEVENT
DTSTART:20230315T000000
DTEND:20230315T000000
SUMMARY:Kuliah Umum : Tips for Creating Eye-Catching Content Using Basic Photography Techniques
DESCRIPTION:Kuliah Umum : Tips for Creating Eye-Catching Content Using Basic Photography Techniques
LOCATION:
END:VEVENT
END:VCALENDAR
