BEGIN:VCALENDAR
VERSION:2.0
PRODID:-//DKV Telkom University
CALSCALE:GREGORIAN
METHOD:PUBLISH
X-WR-CALNAME:DKV Telkom University
X-ORIGINAL-URL:https://bvcd.telkomuniversity.ac.id/acara/mau-ke-mana-sosialisasi-peminatan-dkv-telkom-university-2021/
X-WR-CALDESC:“Mau Ke Mana” Sosialisasi Peminatan DKV Telkom University 2021
BEGIN:VEVENT
DTSTART:20210529T090000
DTEND:20210529T120000
SUMMARY:“Mau Ke Mana” Sosialisasi Peminatan DKV Telkom University 2021
DESCRIPTION:Bingung mau menentukan peminatan DKV mana yang dituju? Ayo ikut ngobrol sama dosen-dosen semua peminatan DKV!
LOCATION:
END:VEVENT
END:VCALENDAR
